BEGIN:VCALENDAR
VERSION:2.0
PRODID:-//Trees for Honolulu&#039;s Future - ECPv6.15.20//NONSGML v1.0//EN
CALSCALE:GREGORIAN
METHOD:PUBLISH
X-ORIGINAL-URL:https://www.treesforhonolulu.org
X-WR-CALDESC:Events for Trees for Honolulu&#039;s Future
REFRESH-INTERVAL;VALUE=DURATION:PT1H
X-Robots-Tag:noindex
X-PUBLISHED-TTL:PT1H
BEGIN:VTIMEZONE
TZID:Pacific/Honolulu
BEGIN:STANDARD
TZOFFSETFROM:-1000
TZOFFSETTO:-1000
TZNAME:HST
DTSTART:20250101T000000
END:STANDARD
END:VTIMEZONE
BEGIN:VEVENT
DTSTART;TZID=Pacific/Honolulu:20260613T090000
DTEND;TZID=Pacific/Honolulu:20260613T120000
DTSTAMP:20260423T020339
CREATED:20250626T235754Z
LAST-MODIFIED:20260422T234447Z
UID:10002514-1781341200-1781352000@www.treesforhonolulu.org
SUMMARY:Ola Nā Kini -- Leeward O'ahu restoration efforts
DESCRIPTION:Join Mālama Learning Center as together we strive to heal the land & sea through restoration efforts in Leeward Oʻahu. \nhttps://signup.com/go/yqimhEk \nThis link includes a general description of MLC’s Laulima Workday events. You’ll also find individual event dates with details specific to each month’s location. NOTE: registration typically opens/unlocks about a month before each event date.
URL:https://www.treesforhonolulu.org/8547884539/ola-na-kini-leeward-oahu-restoration-efforts-12/
LOCATION:various – must register\, see below for link
END:VEVENT
END:VCALENDAR