BEGIN:VCALENDAR
VERSION:2.0
PRODID:-//Trees for Honolulu&#039;s Future - ECPv6.15.20//NONSGML v1.0//EN
CALSCALE:GREGORIAN
METHOD:PUBLISH
X-ORIGINAL-URL:https://www.treesforhonolulu.org
X-WR-CALDESC:Events for Trees for Honolulu&#039;s Future
REFRESH-INTERVAL;VALUE=DURATION:PT1H
X-Robots-Tag:noindex
X-PUBLISHED-TTL:PT1H
BEGIN:VTIMEZONE
TZID:Pacific/Honolulu
BEGIN:STANDARD
TZOFFSETFROM:-1000
TZOFFSETTO:-1000
TZNAME:HST
DTSTART:20260101T000000
END:STANDARD
END:VTIMEZONE
BEGIN:VEVENT
DTSTART;TZID=Pacific/Honolulu:20270501T090000
DTEND;TZID=Pacific/Honolulu:20270501T110000
DTSTAMP:20260419T055525
CREATED:20251015T003941Z
LAST-MODIFIED:20260419T000526Z
UID:10002607-1809162000-1809169200@www.treesforhonolulu.org
SUMMARY:Reforestation -- Volunteer drop-ins at Hamakua Marsh
DESCRIPTION:REGULAR EVENTS Open to the public every Monday 4-6pm and the first Saturday 9-11am each month. All ages welcomed. Children 14 and under need to be accompanied by an adult. \nSCHEDULE YOUR OWN EVENT Groups of 8 or more can schedule a special event if another time is preferred. Email info@healthyclimatecommunities.org \nWhere: Chain link gate immediately adjacent to 268 Hamakua Drive will be open. Parking available inside.  \nBring: Water bottles\, covered shoes and sun protection. Long sleeves and pants recommended. We provide gloves\, but you can bring if you have. \nFor waivers and to sign up\, visit: Volunteer – Healthy Climate Communities
URL:https://www.treesforhonolulu.org/8547884539/reforestation-volunteer-drop-ins-at-hamakua-marsh-19/
LOCATION:Hamakua Marsh\, Kailua\, HI\, United States
GEO:21.395084;-157.758188
END:VEVENT
BEGIN:VEVENT
DTSTART;TZID=Pacific/Honolulu:20270605T090000
DTEND;TZID=Pacific/Honolulu:20270605T110000
DTSTAMP:20260419T055525
CREATED:20251015T004305Z
LAST-MODIFIED:20260419T000554Z
UID:10002608-1812186000-1812193200@www.treesforhonolulu.org
SUMMARY:Reforestation -- Volunteer drop-ins at Hamakua Marsh
DESCRIPTION:REGULAR EVENTS Open to the public every Monday 4-6pm and the first Saturday 9-11am each month. All ages welcomed. Children 14 and under need to be accompanied by an adult. \nSCHEDULE YOUR OWN EVENT Groups of 8 or more can schedule a special event if another time is preferred. Email info@healthyclimatecommunities.org \nWhere: Chain link gate immediately adjacent to 268 Hamakua Drive will be open. Parking available inside.  \nBring: Water bottles\, covered shoes and sun protection. Long sleeves and pants recommended. We provide gloves\, but you can bring if you have. \nFor waivers and to sign up\, visit: Volunteer – Healthy Climate Communities
URL:https://www.treesforhonolulu.org/8547884539/reforestation-volunteer-drop-ins-at-hamakua-marsh-20/
LOCATION:Hamakua Marsh\, Kailua\, HI\, United States
GEO:21.395084;-157.758188
END:VEVENT
BEGIN:VEVENT
DTSTART;TZID=Pacific/Honolulu:20270703T090000
DTEND;TZID=Pacific/Honolulu:20270703T110000
DTSTAMP:20260419T055525
CREATED:20251015T004556Z
LAST-MODIFIED:20260419T000731Z
UID:10002609-1814605200-1814612400@www.treesforhonolulu.org
SUMMARY:Reforestation -- Volunteer drop-ins at Hamakua Marsh
DESCRIPTION:REGULAR EVENTS Open to the public every Monday 4-6pm and the first Saturday 9-11am each month. All ages welcomed. Children 14 and under need to be accompanied by an adult. \nSCHEDULE YOUR OWN EVENT Groups of 8 or more can schedule a special event if another time is preferred. Email info@healthyclimatecommunities.org \nWhere: Chain link gate immediately adjacent to 268 Hamakua Drive will be open. Parking available inside.  \nBring: Water bottles\, covered shoes and sun protection. Long sleeves and pants recommended. We provide gloves\, but you can bring if you have. \nFor waivers and to sign up\, visit: Volunteer – Healthy Climate Communities
URL:https://www.treesforhonolulu.org/8547884539/reforestation-volunteer-drop-ins-at-hamakua-marsh-21/
LOCATION:Hamakua Marsh\, Kailua\, HI\, United States
GEO:21.395084;-157.758188
END:VEVENT
BEGIN:VEVENT
DTSTART;TZID=Pacific/Honolulu:20270807T090000
DTEND;TZID=Pacific/Honolulu:20270807T110000
DTSTAMP:20260419T055525
CREATED:20251015T005436Z
LAST-MODIFIED:20260419T000839Z
UID:10002610-1817629200-1817636400@www.treesforhonolulu.org
SUMMARY:Reforestation -- Volunteer drop-ins at Hamakua Marsh
DESCRIPTION:REGULAR EVENTS Open to the public every Monday 4-6pm and the first Saturday 9-11am each month. All ages welcomed. Children 14 and under need to be accompanied by an adult. \nSCHEDULE YOUR OWN EVENT Groups of 8 or more can schedule a special event if another time is preferred. Email info@healthyclimatecommunities.org \nWhere: Chain link gate immediately adjacent to 268 Hamakua Drive will be open. Parking available inside.  \nBring: Water bottles\, covered shoes and sun protection. Long sleeves and pants recommended. We provide gloves\, but you can bring if you have. \nFor waivers and to sign up\, visit: Volunteer – Healthy Climate Communities
URL:https://www.treesforhonolulu.org/8547884539/reforestation-volunteer-drop-ins-at-hamakua-marsh-22/
LOCATION:Hamakua Marsh\, Kailua\, HI\, United States
GEO:21.395084;-157.758188
END:VEVENT
BEGIN:VEVENT
DTSTART;TZID=Pacific/Honolulu:20270904T090000
DTEND;TZID=Pacific/Honolulu:20270904T110000
DTSTAMP:20260419T055525
CREATED:20251015T005531Z
LAST-MODIFIED:20260419T000842Z
UID:10002611-1820048400-1820055600@www.treesforhonolulu.org
SUMMARY:Reforestation -- Volunteer drop-ins at Hamakua Marsh
DESCRIPTION:REGULAR EVENTS Open to the public every Monday 4-6pm and the first Saturday 9-11am each month. All ages welcomed. Children 14 and under need to be accompanied by an adult. \nSCHEDULE YOUR OWN EVENT Groups of 8 or more can schedule a special event if another time is preferred. Email info@healthyclimatecommunities.org \nWhere: Chain link gate immediately adjacent to 268 Hamakua Drive will be open. Parking available inside.  \nBring: Water bottles\, covered shoes and sun protection. Long sleeves and pants recommended. We provide gloves\, but you can bring if you have. \nFor waivers and to sign up\, visit: Volunteer – Healthy Climate Communities
URL:https://www.treesforhonolulu.org/8547884539/reforestation-volunteer-drop-ins-at-hamakua-marsh-23/
LOCATION:Hamakua Marsh\, Kailua\, HI\, United States
GEO:21.395084;-157.758188
END:VEVENT
BEGIN:VEVENT
DTSTART;TZID=Pacific/Honolulu:20271002T090000
DTEND;TZID=Pacific/Honolulu:20271002T110000
DTSTAMP:20260419T055525
CREATED:20251015T005634Z
LAST-MODIFIED:20260419T000844Z
UID:10002612-1822467600-1822474800@www.treesforhonolulu.org
SUMMARY:Reforestation -- Volunteer drop-ins at Hamakua Marsh
DESCRIPTION:REGULAR EVENTS Open to the public every Monday 4-6pm and the first Saturday 9-11am each month. All ages welcomed. Children 14 and under need to be accompanied by an adult. \nSCHEDULE YOUR OWN EVENT Groups of 8 or more can schedule a special event if another time is preferred. Email info@healthyclimatecommunities.org \nWhere: Chain link gate immediately adjacent to 268 Hamakua Drive will be open. Parking available inside.  \nBring: Water bottles\, covered shoes and sun protection. Long sleeves and pants recommended. We provide gloves\, but you can bring if you have. \nFor waivers and to sign up\, visit: Volunteer – Healthy Climate Communities
URL:https://www.treesforhonolulu.org/8547884539/reforestation-volunteer-drop-ins-at-hamakua-marsh-24/
LOCATION:Hamakua Marsh\, Kailua\, HI\, United States
GEO:21.395084;-157.758188
END:VEVENT
BEGIN:VEVENT
DTSTART;TZID=Pacific/Honolulu:20271106T090000
DTEND;TZID=Pacific/Honolulu:20271106T110000
DTSTAMP:20260419T055525
CREATED:20251107T004853Z
LAST-MODIFIED:20260419T000846Z
UID:10002626-1825491600-1825498800@www.treesforhonolulu.org
SUMMARY:Reforestation -- Volunteer drop-ins at Hamakua Marsh
DESCRIPTION:REGULAR EVENTS Open to the public every Monday 4-6pm and the first Saturday 9-11am each month. All ages welcomed. Children 14 and under need to be accompanied by an adult. \nSCHEDULE YOUR OWN EVENT Groups of 8 or more can schedule a special event if another time is preferred. Email info@healthyclimatecommunities.org \nWhere: Chain link gate immediately adjacent to 268 Hamakua Drive will be open. Parking available inside.  \nBring: Water bottles\, covered shoes and sun protection. Long sleeves and pants recommended. We provide gloves\, but you can bring if you have. \nFor waivers and to sign up\, visit: Volunteer – Healthy Climate Communities
URL:https://www.treesforhonolulu.org/8547884539/reforestation-volunteer-drop-ins-at-hamakua-marsh-25/
LOCATION:Hamakua Marsh\, Kailua\, HI\, United States
GEO:21.395084;-157.758188
END:VEVENT
BEGIN:VEVENT
DTSTART;TZID=Pacific/Honolulu:20271204T090000
DTEND;TZID=Pacific/Honolulu:20271204T110000
DTSTAMP:20260419T055525
CREATED:20251205T235238Z
LAST-MODIFIED:20260419T000849Z
UID:10002638-1827910800-1827918000@www.treesforhonolulu.org
SUMMARY:Reforestation -- Volunteer drop-ins at Hamakua Marsh
DESCRIPTION:REGULAR EVENTS Open to the public every Monday 4-6pm and the first Saturday 9-11am each month. All ages welcomed. Children 14 and under need to be accompanied by an adult. \nSCHEDULE YOUR OWN EVENT Groups of 8 or more can schedule a special event if another time is preferred. Email info@healthyclimatecommunities.org \nWhere: Chain link gate immediately adjacent to 268 Hamakua Drive will be open. Parking available inside.  \nBring: Water bottles\, covered shoes and sun protection. Long sleeves and pants recommended. We provide gloves\, but you can bring if you have. \nFor waivers and to sign up\, visit: Volunteer – Healthy Climate Communities
URL:https://www.treesforhonolulu.org/8547884539/reforestation-volunteer-drop-ins-at-hamakua-marsh-26/
LOCATION:Hamakua Marsh\, Kailua\, HI\, United States
GEO:21.395084;-157.758188
END:VEVENT
BEGIN:VEVENT
DTSTART;TZID=Pacific/Honolulu:20280101T090000
DTEND;TZID=Pacific/Honolulu:20280101T110000
DTSTAMP:20260419T055525
CREATED:20260102T001740Z
LAST-MODIFIED:20260419T000851Z
UID:10002650-1830330000-1830337200@www.treesforhonolulu.org
SUMMARY:Reforestation -- Volunteer drop-ins at Hamakua Marsh
DESCRIPTION:REGULAR EVENTS Open to the public every Monday 4-6pm and the first Saturday 9-11am each month. All ages welcomed. Children 14 and under need to be accompanied by an adult. \nSCHEDULE YOUR OWN EVENT Groups of 8 or more can schedule a special event if another time is preferred. Email info@healthyclimatecommunities.org \nWhere: Chain link gate immediately adjacent to 268 Hamakua Drive will be open. Parking available inside.  \nBring: Water bottles\, covered shoes and sun protection. Long sleeves and pants recommended. We provide gloves\, but you can bring if you have. \nFor waivers and to sign up\, visit: Volunteer – Healthy Climate Communities
URL:https://www.treesforhonolulu.org/8547884539/reforestation-volunteer-drop-ins-at-hamakua-marsh-27/
LOCATION:Hamakua Marsh\, Kailua\, HI\, United States
GEO:21.395084;-157.758188
END:VEVENT
BEGIN:VEVENT
DTSTART;TZID=Pacific/Honolulu:20280205T090000
DTEND;TZID=Pacific/Honolulu:20280205T110000
DTSTAMP:20260419T055525
CREATED:20260206T003231Z
LAST-MODIFIED:20260419T000854Z
UID:10002666-1833354000-1833361200@www.treesforhonolulu.org
SUMMARY:Reforestation -- Volunteer drop-ins at Hamakua Marsh
DESCRIPTION:REGULAR EVENTS Open to the public every Monday 4-6pm and the first Saturday 9-11am each month. All ages welcomed. Children 14 and under need to be accompanied by an adult. \nSCHEDULE YOUR OWN EVENT Groups of 8 or more can schedule a special event if another time is preferred. Email info@healthyclimatecommunities.org \nWhere: Chain link gate immediately adjacent to 268 Hamakua Drive will be open. Parking available inside.  \nBring: Water bottles\, covered shoes and sun protection. Long sleeves and pants recommended. We provide gloves\, but you can bring if you have. \nFor waivers and to sign up\, visit: Volunteer – Healthy Climate Communities
URL:https://www.treesforhonolulu.org/8547884539/reforestation-volunteer-drop-ins-at-hamakua-marsh-28/
LOCATION:Hamakua Marsh\, Kailua\, HI\, United States
GEO:21.395084;-157.758188
END:VEVENT
BEGIN:VEVENT
DTSTART;TZID=Pacific/Honolulu:20280304T090000
DTEND;TZID=Pacific/Honolulu:20280304T110000
DTSTAMP:20260419T055525
CREATED:20260306T004048Z
LAST-MODIFIED:20260419T000856Z
UID:10002677-1835773200-1835780400@www.treesforhonolulu.org
SUMMARY:Reforestation -- Volunteer drop-ins at Hamakua Marsh
DESCRIPTION:REGULAR EVENTS Open to the public every Monday 4-6pm and the first Saturday 9-11am each month. All ages welcomed. Children 14 and under need to be accompanied by an adult. \nSCHEDULE YOUR OWN EVENT Groups of 8 or more can schedule a special event if another time is preferred. Email info@healthyclimatecommunities.org \nWhere: Chain link gate immediately adjacent to 268 Hamakua Drive will be open. Parking available inside.  \nBring: Water bottles\, covered shoes and sun protection. Long sleeves and pants recommended. We provide gloves\, but you can bring if you have. \nFor waivers and to sign up\, visit: Volunteer – Healthy Climate Communities
URL:https://www.treesforhonolulu.org/8547884539/reforestation-volunteer-drop-ins-at-hamakua-marsh-29/
LOCATION:Hamakua Marsh\, Kailua\, HI\, United States
GEO:21.395084;-157.758188
END:VEVENT
BEGIN:VEVENT
DTSTART;TZID=Pacific/Honolulu:20280401T090000
DTEND;TZID=Pacific/Honolulu:20280401T110000
DTSTAMP:20260419T055525
CREATED:20260402T001647Z
LAST-MODIFIED:20260419T000858Z
UID:10002687-1838192400-1838199600@www.treesforhonolulu.org
SUMMARY:Reforestation -- Volunteer drop-ins at Hamakua Marsh
DESCRIPTION:REGULAR EVENTS Open to the public every Monday 4-6pm and the first Saturday 9-11am each month. All ages welcomed. Children 14 and under need to be accompanied by an adult. \nSCHEDULE YOUR OWN EVENT Groups of 8 or more can schedule a special event if another time is preferred. Email info@healthyclimatecommunities.org \nWhere: Chain link gate immediately adjacent to 268 Hamakua Drive will be open. Parking available inside.  \nBring: Water bottles\, covered shoes and sun protection. Long sleeves and pants recommended. We provide gloves\, but you can bring if you have. \nFor waivers and to sign up\, visit: Volunteer – Healthy Climate Communities
URL:https://www.treesforhonolulu.org/8547884539/reforestation-volunteer-drop-ins-at-hamakua-marsh-30/
LOCATION:Hamakua Marsh\, Kailua\, HI\, United States
GEO:21.395084;-157.758188
END:VEVENT
END:VCALENDAR