BEGIN:VCALENDAR
VERSION:2.0
PRODID:-//Trees for Honolulu&#039;s Future - ECPv6.15.20//NONSGML v1.0//EN
CALSCALE:GREGORIAN
METHOD:PUBLISH
X-ORIGINAL-URL:https://www.treesforhonolulu.org
X-WR-CALDESC:Events for Trees for Honolulu&#039;s Future
REFRESH-INTERVAL;VALUE=DURATION:PT1H
X-Robots-Tag:noindex
X-PUBLISHED-TTL:PT1H
BEGIN:VTIMEZONE
TZID:Pacific/Honolulu
BEGIN:STANDARD
TZOFFSETFROM:-1000
TZOFFSETTO:-1000
TZNAME:HST
DTSTART:20240101T000000
END:STANDARD
END:VTIMEZONE
BEGIN:VEVENT
DTSTART;TZID=Pacific/Honolulu:20251114T100000
DTEND;TZID=Pacific/Honolulu:20251114T113000
DTSTAMP:20260425T061826
CREATED:20251015T233736Z
LAST-MODIFIED:20251113T234657Z
UID:10002616-1763114400-1763119800@www.treesforhonolulu.org
SUMMARY:Native Tree Propagation Workshop - sign up (below) required
DESCRIPTION:Learn several techniques to propagate a tree with Botany Professor Mike Ross. Take home your own Native tree seedling.  \nSpace is limited\, so sign up today!
URL:https://www.treesforhonolulu.org/8547884539/native-tree-propagation-workshop-sign-up-below-required/
LOCATION:Kapiʻolani Community College\, 4303 Diamond Head Rd\, Honolulu\, HI\, United States
GEO:21.268722;-157.801433
X-APPLE-STRUCTURED-LOCATION;VALUE=URI;X-ADDRESS=Kapiʻolani Community College 4303 Diamond Head Rd Honolulu HI United States;X-APPLE-RADIUS=500;X-TITLE=4303 Diamond Head Rd:geo:-157.801433,21.268722
END:VEVENT
BEGIN:VEVENT
DTSTART;TZID=Pacific/Honolulu:20251025T140000
DTEND;TZID=Pacific/Honolulu:20251025T153000
DTSTAMP:20260425T061826
CREATED:20251015T233634Z
LAST-MODIFIED:20251025T234613Z
UID:10002615-1761400800-1761406200@www.treesforhonolulu.org
SUMMARY:Forest Bathing Walk - sign up (below) required
DESCRIPTION:Take a mindful stroll through the campus’ natural spaces and experience Shinrinyoku — the Japanese practice of “forest bathing.” Led by Dr. Miku Lenentine (ANFT Certified Guide) and Mahi La Pierre\, Park Interpretive Center Coordinator at Diamond Head State Monument\, educator\, and artisan\, this guided experience invites you to slow down\, reconnect with nature\, and celebrate the Year of Our Community Forests.  Ground yourself in ʻāina\, uplift Native Hawaiian values\, and restore balance and well-being. \nSign up here. Space is limited\, so register today! \nThese events celebrate the Year of Our Community Forests and are funded in part by a grant from the Kaulunani Urban and Community Forestry Program of the DLNR Division of Forestry and Wildlife.
URL:https://www.treesforhonolulu.org/8547884539/forest-bathing-walk-sign-up-below-required/
LOCATION:Kapiʻolani Community College\, 4303 Diamond Head Rd\, Honolulu\, HI\, United States
GEO:21.268722;-157.801433
X-APPLE-STRUCTURED-LOCATION;VALUE=URI;X-ADDRESS=Kapiʻolani Community College 4303 Diamond Head Rd Honolulu HI United States;X-APPLE-RADIUS=500;X-TITLE=4303 Diamond Head Rd:geo:-157.801433,21.268722
END:VEVENT
BEGIN:VEVENT
DTSTART;TZID=Pacific/Honolulu:20251025T103000
DTEND;TZID=Pacific/Honolulu:20251025T123000
DTSTAMP:20260425T061826
CREATED:20251015T233559Z
LAST-MODIFIED:20251024T234557Z
UID:10002614-1761388200-1761395400@www.treesforhonolulu.org
SUMMARY:‘Ulu: Food Ethics and Cultural Narratives - sign up (below) required
DESCRIPTION:Learn (and taste) new ways to cook ‘Ulu with Culinary Institute of the Pacific Chef Alan Tsuchiyama. Discuss the ethics of food with Philosophy Professor Kuan-Hung Chen. \nSign up here. Space is limited\, so register today! \nThese events celebrate the Year of Our Community Forests and are funded in part by a grant from the Kaulunani Urban and Community Forestry Program of the DLNR Division of Forestry and Wildlife.
URL:https://www.treesforhonolulu.org/8547884539/ulu-food-ethics-and-cultural-narratives-sign-up-below-required/
LOCATION:Kapiʻolani Community College\, 4303 Diamond Head Rd\, Honolulu\, HI\, United States
GEO:21.268722;-157.801433
X-APPLE-STRUCTURED-LOCATION;VALUE=URI;X-ADDRESS=Kapiʻolani Community College 4303 Diamond Head Rd Honolulu HI United States;X-APPLE-RADIUS=500;X-TITLE=4303 Diamond Head Rd:geo:-157.801433,21.268722
END:VEVENT
BEGIN:VEVENT
DTSTART;TZID=Pacific/Honolulu:20251018T100000
DTEND;TZID=Pacific/Honolulu:20251018T120000
DTSTAMP:20260425T061826
CREATED:20251015T233324Z
LAST-MODIFIED:20251017T233456Z
UID:10002613-1760781600-1760788800@www.treesforhonolulu.org
SUMMARY:Terns and Trees Walk at Mālama Kapiʻolani - sign up (below) required
DESCRIPTION:Two Terns & Trees Walks led by KCC Undergraduate Research Students. The Terns & Trees walk will highlight the importance of urban trees to White Terns/Manu-o-Kū. \nPlease register at Mālama Kapiʻolani Walks will be offered at 10 am and 11 am. The Mālama Kapiʻolani runs from 8 AM to NOON. \nThese events celebrate the Year of Our Community Forests and are funded in part by a grant from the Kaulunani Urban and Community Forestry Program of the DLNR Division of Forestry and Wildlife.
URL:https://www.treesforhonolulu.org/8547884539/terns-and-trees-walk-at-malama-kapi%ca%bbolani-sign-up-below-required/
LOCATION:Kapiʻolani Community College\, 4303 Diamond Head Rd\, Honolulu\, HI\, United States
GEO:21.268722;-157.801433
X-APPLE-STRUCTURED-LOCATION;VALUE=URI;X-ADDRESS=Kapiʻolani Community College 4303 Diamond Head Rd Honolulu HI United States;X-APPLE-RADIUS=500;X-TITLE=4303 Diamond Head Rd:geo:-157.801433,21.268722
END:VEVENT
END:VCALENDAR