BEGIN:VCALENDAR
VERSION:2.0
PRODID:-//Trees for Honolulu&#039;s Future - ECPv6.15.20//NONSGML v1.0//EN
CALSCALE:GREGORIAN
METHOD:PUBLISH
X-ORIGINAL-URL:https://www.treesforhonolulu.org
X-WR-CALDESC:Events for Trees for Honolulu&#039;s Future
REFRESH-INTERVAL;VALUE=DURATION:PT1H
X-Robots-Tag:noindex
X-PUBLISHED-TTL:PT1H
BEGIN:VTIMEZONE
TZID:Pacific/Honolulu
BEGIN:STANDARD
TZOFFSETFROM:-1000
TZOFFSETTO:-1000
TZNAME:HST
DTSTART:20260101T000000
END:STANDARD
END:VTIMEZONE
BEGIN:VEVENT
DTSTART;TZID=Pacific/Honolulu:20270515T160000
DTEND;TZID=Pacific/Honolulu:20270515T163000
DTSTAMP:20260421T230420
CREATED:20250518T013125Z
LAST-MODIFIED:20260422T001109Z
UID:10002487-1810396800-1810398600@www.treesforhonolulu.org
SUMMARY:Community Crop Swap!
DESCRIPTION:Share your homegrown produce and connect with neighborhood friends and gardeners. On the 15th of each month at the stroke of 4 pm.   \nLocation – next to Rec Center – click here for map. For more information call Kaleo at 808-724-2677.
URL:https://www.treesforhonolulu.org/8547884539/community-crop-swap-30/
LOCATION:Pālolo Valley District Park\, 2007 Palolo Ave\, Honolulu\, HI\, United States
GEO:21.299789;-157.796908
X-APPLE-STRUCTURED-LOCATION;VALUE=URI;X-ADDRESS=Pālolo Valley District Park 2007 Palolo Ave Honolulu HI United States;X-APPLE-RADIUS=500;X-TITLE=2007 Palolo Ave:geo:-157.796908,21.299789
END:VEVENT
BEGIN:VEVENT
DTSTART;TZID=Pacific/Honolulu:20270615T160000
DTEND;TZID=Pacific/Honolulu:20270615T163000
DTSTAMP:20260421T230420
CREATED:20250617T005014Z
LAST-MODIFIED:20260422T001245Z
UID:10002497-1813075200-1813077000@www.treesforhonolulu.org
SUMMARY:Community Crop Swap!
DESCRIPTION:Share your homegrown produce and connect with neighborhood friends and gardeners. On the 15th of each month at the stroke of 4 pm.   \nLocation – next to Rec Center – click here for map. For more information call Kaleo at 808-724-2677.
URL:https://www.treesforhonolulu.org/8547884539/community-crop-swap-31/
LOCATION:Pālolo Valley District Park\, 2007 Palolo Ave\, Honolulu\, HI\, United States
GEO:21.299789;-157.796908
X-APPLE-STRUCTURED-LOCATION;VALUE=URI;X-ADDRESS=Pālolo Valley District Park 2007 Palolo Ave Honolulu HI United States;X-APPLE-RADIUS=500;X-TITLE=2007 Palolo Ave:geo:-157.796908,21.299789
END:VEVENT
BEGIN:VEVENT
DTSTART;TZID=Pacific/Honolulu:20270715T160000
DTEND;TZID=Pacific/Honolulu:20270715T163000
DTSTAMP:20260421T230420
CREATED:20250717T003417Z
LAST-MODIFIED:20260422T001551Z
UID:10002535-1815667200-1815669000@www.treesforhonolulu.org
SUMMARY:Community Crop Swap
DESCRIPTION:Share your homegrown produce and connect with neighborhood friends and gardeners. On the 15th of each month at the stroke of 4 pm.   \nLocation – next to Rec Center – click here for map. For more information call Kaleo at 808-724-2677.
URL:https://www.treesforhonolulu.org/8547884539/community-crop-swap-32/
LOCATION:Pālolo Valley District Park\, 2007 Palolo Ave\, Honolulu\, HI\, United States
GEO:21.299789;-157.796908
X-APPLE-STRUCTURED-LOCATION;VALUE=URI;X-ADDRESS=Pālolo Valley District Park 2007 Palolo Ave Honolulu HI United States;X-APPLE-RADIUS=500;X-TITLE=2007 Palolo Ave:geo:-157.796908,21.299789
END:VEVENT
BEGIN:VEVENT
DTSTART;TZID=Pacific/Honolulu:20270815T160000
DTEND;TZID=Pacific/Honolulu:20270815T163000
DTSTAMP:20260421T230420
CREATED:20250818T003347Z
LAST-MODIFIED:20260422T001642Z
UID:10002550-1818345600-1818347400@www.treesforhonolulu.org
SUMMARY:Community Crop Swap!
DESCRIPTION:Share your homegrown produce and connect with neighborhood friends and gardeners. On the 15th of each month at the stroke of 4 pm.   \nLocation – next to Rec Center – click here for map. For more information call Kaleo at 808-724-2677.
URL:https://www.treesforhonolulu.org/8547884539/community-crop-swap-33/
LOCATION:Pālolo Valley District Park\, 2007 Palolo Ave\, Honolulu\, HI\, United States
GEO:21.299789;-157.796908
X-APPLE-STRUCTURED-LOCATION;VALUE=URI;X-ADDRESS=Pālolo Valley District Park 2007 Palolo Ave Honolulu HI United States;X-APPLE-RADIUS=500;X-TITLE=2007 Palolo Ave:geo:-157.796908,21.299789
END:VEVENT
BEGIN:VEVENT
DTSTART;TZID=Pacific/Honolulu:20270915T160000
DTEND;TZID=Pacific/Honolulu:20270915T163000
DTSTAMP:20260421T230420
CREATED:20250917T005753Z
LAST-MODIFIED:20260422T001650Z
UID:10002569-1821024000-1821025800@www.treesforhonolulu.org
SUMMARY:Community Crop Swap!
DESCRIPTION:Share your homegrown produce and connect with neighborhood friends and gardeners. On the 15th of each month at the stroke of 4 pm.   \nLocation – next to Rec Center – click here for map. For more information call Kaleo at 808-724-2677.
URL:https://www.treesforhonolulu.org/8547884539/community-crop-swap-34/
LOCATION:Pālolo Valley District Park\, 2007 Palolo Ave\, Honolulu\, HI\, United States
GEO:21.299789;-157.796908
X-APPLE-STRUCTURED-LOCATION;VALUE=URI;X-ADDRESS=Pālolo Valley District Park 2007 Palolo Ave Honolulu HI United States;X-APPLE-RADIUS=500;X-TITLE=2007 Palolo Ave:geo:-157.796908,21.299789
END:VEVENT
BEGIN:VEVENT
DTSTART;TZID=Pacific/Honolulu:20271015T160000
DTEND;TZID=Pacific/Honolulu:20271015T163000
DTSTAMP:20260421T230420
CREATED:20251017T002039Z
LAST-MODIFIED:20260422T001724Z
UID:10002617-1823616000-1823617800@www.treesforhonolulu.org
SUMMARY:Community Crop Swap!
DESCRIPTION:Share your homegrown produce and connect with neighborhood friends and gardeners. On the 15th of each month at the stroke of 4 pm.   \nLocation – next to Rec Center – click here for map. For more information call Kaleo at 808-724-2677.
URL:https://www.treesforhonolulu.org/8547884539/community-crop-swap-35/
LOCATION:Pālolo Valley District Park\, 2007 Palolo Ave\, Honolulu\, HI\, United States
GEO:21.299789;-157.796908
X-APPLE-STRUCTURED-LOCATION;VALUE=URI;X-ADDRESS=Pālolo Valley District Park 2007 Palolo Ave Honolulu HI United States;X-APPLE-RADIUS=500;X-TITLE=2007 Palolo Ave:geo:-157.796908,21.299789
END:VEVENT
BEGIN:VEVENT
DTSTART;TZID=Pacific/Honolulu:20271115T160000
DTEND;TZID=Pacific/Honolulu:20271115T163000
DTSTAMP:20260421T230420
CREATED:20251117T002451Z
LAST-MODIFIED:20260422T001751Z
UID:10002630-1826294400-1826296200@www.treesforhonolulu.org
SUMMARY:Community Crop Swap
DESCRIPTION:Share your homegrown produce and connect with neighborhood friends and gardeners. On the 15th of each month at the stroke of 4 pm.   \nLocation – next to Rec Center – click here for map. For more information call Kaleo at 808-724-2677.
URL:https://www.treesforhonolulu.org/8547884539/community-crop-swap-36/
LOCATION:Pālolo Valley District Park\, 2007 Palolo Ave\, Honolulu\, HI\, United States
GEO:21.299789;-157.796908
X-APPLE-STRUCTURED-LOCATION;VALUE=URI;X-ADDRESS=Pālolo Valley District Park 2007 Palolo Ave Honolulu HI United States;X-APPLE-RADIUS=500;X-TITLE=2007 Palolo Ave:geo:-157.796908,21.299789
END:VEVENT
BEGIN:VEVENT
DTSTART;TZID=Pacific/Honolulu:20271215T160000
DTEND;TZID=Pacific/Honolulu:20271215T163000
DTSTAMP:20260421T230420
CREATED:20251217T003427Z
LAST-MODIFIED:20260422T001926Z
UID:10002644-1828886400-1828888200@www.treesforhonolulu.org
SUMMARY:Community Crop Swap!
DESCRIPTION:Share your homegrown produce and connect with neighborhood friends and gardeners. On the 15th of each month at the stroke of 4 pm.   \nLocation – next to Rec Center – click here for map. For more information call Kaleo at 808-724-2677.
URL:https://www.treesforhonolulu.org/8547884539/community-crop-swap-37/
LOCATION:Pālolo Valley District Park\, 2007 Palolo Ave\, Honolulu\, HI\, United States
GEO:21.299789;-157.796908
X-APPLE-STRUCTURED-LOCATION;VALUE=URI;X-ADDRESS=Pālolo Valley District Park 2007 Palolo Ave Honolulu HI United States;X-APPLE-RADIUS=500;X-TITLE=2007 Palolo Ave:geo:-157.796908,21.299789
END:VEVENT
BEGIN:VEVENT
DTSTART;TZID=Pacific/Honolulu:20280115T160000
DTEND;TZID=Pacific/Honolulu:20280115T163000
DTSTAMP:20260421T230420
CREATED:20260117T003441Z
LAST-MODIFIED:20260422T001929Z
UID:10002661-1831564800-1831566600@www.treesforhonolulu.org
SUMMARY:Community Crop Swap!
DESCRIPTION:Share your homegrown produce and connect with neighborhood friends and gardeners. On the 15th of each month at the stroke of 4 pm.  For more information call Kaleo at 808-724-2677.
URL:https://www.treesforhonolulu.org/8547884539/community-crop-swap-38/
LOCATION:Pālolo Valley District Park\, 2007 Palolo Ave\, Honolulu\, HI\, United States
GEO:21.299789;-157.796908
X-APPLE-STRUCTURED-LOCATION;VALUE=URI;X-ADDRESS=Pālolo Valley District Park 2007 Palolo Ave Honolulu HI United States;X-APPLE-RADIUS=500;X-TITLE=2007 Palolo Ave:geo:-157.796908,21.299789
END:VEVENT
BEGIN:VEVENT
DTSTART;TZID=Pacific/Honolulu:20280215T160000
DTEND;TZID=Pacific/Honolulu:20280215T163000
DTSTAMP:20260421T230420
CREATED:20260217T235323Z
LAST-MODIFIED:20260422T002230Z
UID:10002670-1834243200-1834245000@www.treesforhonolulu.org
SUMMARY:Community Crop Swap!
DESCRIPTION:Share your homegrown produce and connect with neighborhood friends and gardeners. On the 15th of each month at the stroke of 4 pm.   \nLocation – next to Rec Center – click here for map. For more information call Kaleo at 808-724-2677.
URL:https://www.treesforhonolulu.org/8547884539/community-crop-swap-39/
LOCATION:Pālolo Valley District Park\, 2007 Palolo Ave\, Honolulu\, HI\, United States
GEO:21.299789;-157.796908
X-APPLE-STRUCTURED-LOCATION;VALUE=URI;X-ADDRESS=Pālolo Valley District Park 2007 Palolo Ave Honolulu HI United States;X-APPLE-RADIUS=500;X-TITLE=2007 Palolo Ave:geo:-157.796908,21.299789
END:VEVENT
BEGIN:VEVENT
DTSTART;TZID=Pacific/Honolulu:20280315T160000
DTEND;TZID=Pacific/Honolulu:20280315T163000
DTSTAMP:20260421T230420
CREATED:20260316T235513Z
LAST-MODIFIED:20260422T002320Z
UID:10002681-1836748800-1836750600@www.treesforhonolulu.org
SUMMARY:Community Crop Swap!
DESCRIPTION:Share your homegrown produce and connect with neighborhood friends and gardeners. On the 15th of each month at the stroke of 4 pm.   \nLocation – next to Rec Center – click here for map. For more information call Kaleo at 808-724-2677.
URL:https://www.treesforhonolulu.org/8547884539/community-crop-swap-40/
LOCATION:Pālolo Valley District Park\, 2007 Palolo Ave\, Honolulu\, HI\, United States
GEO:21.299789;-157.796908
X-APPLE-STRUCTURED-LOCATION;VALUE=URI;X-ADDRESS=Pālolo Valley District Park 2007 Palolo Ave Honolulu HI United States;X-APPLE-RADIUS=500;X-TITLE=2007 Palolo Ave:geo:-157.796908,21.299789
END:VEVENT
BEGIN:VEVENT
DTSTART;TZID=Pacific/Honolulu:20280415T160000
DTEND;TZID=Pacific/Honolulu:20280415T163000
DTSTAMP:20260421T230420
CREATED:20260417T000733Z
LAST-MODIFIED:20260422T002634Z
UID:10002695-1839427200-1839429000@www.treesforhonolulu.org
SUMMARY:Community Crop Swap!
DESCRIPTION:Share your homegrown produce and connect with neighborhood friends and gardeners. On the 15th of each month at the stroke of 4 pm.   \nLocation – next to Rec Center – click here for map. For more information call Kaleo at 808-724-2677.
URL:https://www.treesforhonolulu.org/8547884539/community-crop-swap-41/
LOCATION:Pālolo Valley District Park\, 2007 Palolo Ave\, Honolulu\, HI\, United States
GEO:21.299789;-157.796908
X-APPLE-STRUCTURED-LOCATION;VALUE=URI;X-ADDRESS=Pālolo Valley District Park 2007 Palolo Ave Honolulu HI United States;X-APPLE-RADIUS=500;X-TITLE=2007 Palolo Ave:geo:-157.796908,21.299789
END:VEVENT
END:VCALENDAR