BEGIN:VCALENDAR
VERSION:2.0
PRODID:-//Trees for Honolulu&#039;s Future - ECPv6.15.20//NONSGML v1.0//EN
CALSCALE:GREGORIAN
METHOD:PUBLISH
X-ORIGINAL-URL:https://www.treesforhonolulu.org
X-WR-CALDESC:Events for Trees for Honolulu&#039;s Future
REFRESH-INTERVAL;VALUE=DURATION:PT1H
X-Robots-Tag:noindex
X-PUBLISHED-TTL:PT1H
BEGIN:VTIMEZONE
TZID:Pacific/Honolulu
BEGIN:STANDARD
TZOFFSETFROM:-1000
TZOFFSETTO:-1000
TZNAME:HST
DTSTART:20240101T000000
END:STANDARD
END:VTIMEZONE
BEGIN:VEVENT
DTSTART;TZID=Pacific/Honolulu:20250206T140000
DTEND;TZID=Pacific/Honolulu:20250206T170000
DTSTAMP:20260425T002943
CREATED:20250125T234121Z
LAST-MODIFIED:20250205T235108Z
UID:10002412-1738850400-1738861200@www.treesforhonolulu.org
SUMMARY:Let's Grind! Food Foraging -- Learn About Food Growing Around Us
DESCRIPTION:In this immersive 3-hour FREE foraging experience\, with foodie and botanist Dr. Nat Bletter\, flavormeister of Madre Chocolate\, participants discover\, taste\, and gather a variety of edible wild plants growing in Pālolo valley — from seeds and flowers to fruits and vines — culminating in the creation of a vibrant wild salad. \nSign up here! 
URL:https://www.treesforhonolulu.org/8547884539/lets-grind-food-foraging-learn-about-food-growing-around-us/
LOCATION:Palolo Valley – location will be emailed to you after sign-up/acceptance
END:VEVENT
END:VCALENDAR